BEGIN:VCALENDAR
VERSION:2.0
PRODID:-//Cayman Islands Cancer Society (CICS) - ECPv6.15.17.1//NONSGML v1.0//EN
CALSCALE:GREGORIAN
METHOD:PUBLISH
X-ORIGINAL-URL:https://www.cics.ky
X-WR-CALDESC:Events for Cayman Islands Cancer Society (CICS)
REFRESH-INTERVAL;VALUE=DURATION:PT1H
X-Robots-Tag:noindex
X-PUBLISHED-TTL:PT1H
BEGIN:VTIMEZONE
TZID:UTC
BEGIN:STANDARD
TZOFFSETFROM:+0000
TZOFFSETTO:+0000
TZNAME:UTC
DTSTART:20250101T000000
END:STANDARD
END:VTIMEZONE
BEGIN:VEVENT
DTSTART;TZID=UTC:20260501T190000
DTEND;TZID=UTC:20260501T233000
DTSTAMP:20260419T141652
CREATED:20260408T210048Z
LAST-MODIFIED:20260408T210048Z
UID:11234-1777662000-1777678200@www.cics.ky
SUMMARY:Give Cancer The Boot 2026
DESCRIPTION:May 1st @ 7pm \nGive Cancer The Boot 2026 is back at Sandbar Daiquiri Bar & Grill\, Grand Cayman — and we’re turning it all the way up. Get ready for bigger beats\, more dancing\, epic prizes\, and nonstop fun\, all for an incredible cause. We’re ramping up the music\, the vibes\, and the celebration as we come together to Give Cancer the BOOT. Grab your crew\, dust off those boots & cowboy hats\, and join us for a night that proves doing good can feel this good. \nGrab your tickets below NOW! \nhttps://register.hakuapp.com/?event=cca62f34f0c2eec83786
URL:https://www.cics.ky/event/give-cancer-the-boot-2026/
LOCATION:Sandbar Daquiri Bar & Grill\, 1008 North Church St\, George Town\, Cayman Islands
ATTACH;FMTTYPE=image/jpeg:https://www.cics.ky/wp-content/uploads/2026/04/FACEBOOK-POST.jpg
ORGANIZER;CN="Cayman Islands Cancer Society":MAILTO:info@cics.ky
END:VEVENT
BEGIN:VEVENT
DTSTART;TZID=UTC:20260530T190000
DTEND;TZID=UTC:20260530T230000
DTSTAMP:20260419T141652
CREATED:20260408T210411Z
LAST-MODIFIED:20260408T210411Z
UID:11235-1780167600-1780182000@www.cics.ky
SUMMARY:CICS Casino Night 2026
DESCRIPTION:Step into an evening of elegance and excitement at the CICS Casino Night at Bacaro on Saturday May 30th. \nSet against Bacaro’s refined waterfront atmosphere\, enjoy an elevated night of gaming\, music\, dancing\, style\, and celebration. From the thrill of the tables to the glow of great company\, the evening promises sophistication\, lively energy\, and a memorable experience—all in support of a meaningful cause. Dress to impress and let the games begin. \nTickets are limited\, so secure yours below NOW! \nhttps://register.hakuapp.com/?event=a076806aa1dda6dff656
URL:https://www.cics.ky/event/cics-casino-night-2026/
LOCATION:Bacaro\, Cayman Islands Yacht Club\, Cayman Islands
CATEGORIES:Casino Night
ATTACH;FMTTYPE=image/jpeg:https://www.cics.ky/wp-content/uploads/2026/04/6.jpg
ORGANIZER;CN="Cayman Islands Cancer Society":MAILTO:info@cics.ky
END:VEVENT
END:VCALENDAR